BEGIN:VCALENDAR
VERSION:2.0
PRODID:-//Squarespace Inc/Squarespace 6//v6//EN
BEGIN:VEVENT
UID:53ba97a0e4b0fc72367ca61c@squarespace.com
DTSTAMP:20140715T132002Z
DTSTART:20140627T130000Z
DTEND:20140712T140000Z
SUMMARY:                             Snow Time In The Garden
END:VEVENT
END:VCALENDAR
